BEGIN:VCALENDAR
VERSION:2.0
PRODID:-//eventon.com NONSGML v1.0//EN
CALSCALE:GREGORIAN
METHOD:PUBLISH
BEGIN:VEVENT
UID:69e89f86e4f60
DTSTAMP:20260422T101430Z
DTSTART:20221217T160000Z
DTEND:20221217T173000Z
LOCATION:Kulturhaus Karl Schönherr Schlanders Göflaner Straße\,  27b
SUMMARY:Christmas Celebration in Schlanders
DESCRIPTION:Gemeinsam wollen wir Weihnachten feiern! Du bist herzlich einge
 laden\,  mit Weihnachtsliedern\,  Input\,  Weihnachtstanz\,  Keksen und vie
 lem mehr das Weihnachtsfest neu zu erleben!\nhttps://christengemeinden.it/e
 vents/christmas-celebration-in-schlanders/
URL:https://christengemeinden.it/events/christmas-celebration-in-schlanders/
END:VEVENT
END:VCALENDAR