BEGIN:VCALENDAR
VERSION:2.0
PRODID:-//eventon.com NONSGML v1.0//EN
CALSCALE:GREGORIAN
METHOD:PUBLISH
BEGIN:VEVENT
UID:69e88b68bd278
DTSTAMP:20260422T084840Z
DTSTART:20200222T183000Z
DTEND:20200222T200000Z
LOCATION:CGS-Zentrum
SUMMARY:Gottesdienst  in Schlanders / CGS Zentrum
DESCRIPTION:Die Gottesdienste der Christengemeinden sind Ã¶ffentlich. GÃ¤st
 e und Interessierte sind herzlich willkommen! Ort: CGS-Zentrum\,  Dr.-H.-VÃ
 ¶gele-Str. 7/E\,  39028 Schlanders\nhttps://christengemeinden.it/events/got
 tesdienst-in-schlanders-cgs-zentrum-22/
URL:https://christengemeinden.it/events/gottesdienst-in-schlanders-cgs-zentrum-22/
END:VEVENT
END:VCALENDAR