BEGIN:VCALENDAR
VERSION:2.0
PRODID:-//eventon.com NONSGML v1.0//EN
CALSCALE:GREGORIAN
METHOD:PUBLISH
BEGIN:VEVENT
UID:69e8a0a0dbbbf
DTSTAMP:20260422T101912Z
DTSTART:20190419T123000Z
DTEND:20190419T153000Z
LOCATION:
SUMMARY:JESUS - Besinnungsweg am Karfreitag
DESCRIPTION:&nbsp; Am Karfreitag machen wir gemeinsam den JESUS &#8211; Bes
 innungsweg in Naturns.  Auf dem Weg feiern wir das Abendmahl (Gedächtnism
 ahl). Jeder ist herzlich dazu eingeladen! Wir treffen uns um 14.30 Uhr in N
 aturns auf dem Parkplatz\,  unterhalb des Einstiegs in den Besinnungsweg.\n
 https://christengemeinden.it/events/jesus-besinnungsweg-am-karfreitag-2/
URL:https://christengemeinden.it/events/jesus-besinnungsweg-am-karfreitag-2/
END:VEVENT
END:VCALENDAR