BEGIN:VCALENDAR
VERSION:2.0
PRODID:-//eventon.com NONSGML v1.0//EN
CALSCALE:GREGORIAN
METHOD:PUBLISH
BEGIN:VEVENT
UID:69e88e90e1533
DTSTAMP:20260422T090208Z
DTSTART:20230716T080000Z
DTEND:20230716T100000Z
LOCATION:International Church
SUMMARY:Gottesdienst in Bozen
DESCRIPTION:Die Gottesdienste der Christengemeinden sind öffentlich. Wir f
 reuen uns auf ihren Besuch. Versammlungsort: International Church\,   Achi
 lle Grandistrasse 22\,  Bozen\nhttps://christengemeinden.it/events/gottesdi
 enst-bozen-5/
URL:https://christengemeinden.it/events/gottesdienst-bozen-5/
END:VEVENT
END:VCALENDAR