BEGIN:VCALENDAR
VERSION:2.0
PRODID:-//eventon.com NONSGML v1.0//EN
CALSCALE:GREGORIAN
METHOD:PUBLISH
BEGIN:VEVENT
UID:69e88b7c461ec
DTSTAMP:20260422T084900Z
DTSTART:20251214T160000Z
DTEND:20251214T173000Z
LOCATION:CGS-Zentrum Schlanders Doktor-Heinrich-Vögele-Straße\,  7\,  39028 Schlanders
SUMMARY:Abendgottesdienst Schlanders – 3. Advent (Copy)
DESCRIPTION:Diesen Sonntag feiern wir gemeinsam den 3. Advent-Gottesdienst 
 im CGS-Zentrum in Schlanders mit kurzem Input zum Advent\,  einer Lobpreisz
 eit mit Adventliedern und Möglichkeit zum Gebet füreinander. DU bist her
 zlich eingeladen. Ort: Dr.-Heinrich-Vögele-Straße\,  7\,  39028 Schlande
 rs\,  Südtirol\,  Italien\nhttps://christengemeinden.it/events/abendgottes
 dienst-schlanders-3-advent-copy/
URL:https://christengemeinden.it/events/abendgottesdienst-schlanders-3-advent-copy/
END:VEVENT
END:VCALENDAR