BEGIN:VCALENDAR
VERSION:2.0
PRODID:-//eventon.com NONSGML v1.0//EN
CALSCALE:GREGORIAN
METHOD:PUBLISH
BEGIN:VEVENT
UID:69e8a36fbece9
DTSTAMP:20260422T103111Z
DTSTART:20241110T090000Z
DTEND:20241110T110000Z
LOCATION:International Church
SUMMARY:Gottesdienst Bozen
DESCRIPTION:Diesen Sonntag feiern wir gemeinsam Gottesdienst mit Predigt\,
   Lobpreis\,  Gebet und Kinderprogramm für alle Kids. DU bist herzlich ei
 ngeladen. Versammlungsort: International Church\,   Achille Grandistrasse 
 22\,  Bozen\nhttps://christengemeinden.it/events/gottesdienst-bozen-6/
URL:https://christengemeinden.it/events/gottesdienst-bozen-6/
END:VEVENT
END:VCALENDAR