BEGIN:VCALENDAR
VERSION:2.0
PRODID:-//eventon.com NONSGML v1.0//EN
CALSCALE:GREGORIAN
METHOD:PUBLISH
BEGIN:VEVENT
UID:69e8a00c4f6fd
DTSTAMP:20260422T101644Z
DTSTART:20240623T080000Z
DTEND:20240623T100000Z
LOCATION:Vereinshaus St. Georgen Pipenstraße 6\,  39031 Bruneck
SUMMARY:ACHTUNG: CGS Gottesdienst in St. Georgen / Pustertal (NICHT in Montal!)
DESCRIPTION:Gemeinsam feiern wir als CGS den Gottesdienst mit Predigt\,  Lo
 bpreis und Kinderprogramm für alle Kids aufgrund der schlechten Wettervorh
 ersage NICHT! bei der Freizeitanlage in Montal SONDERN im Vereinssaal in St
 . Georgen!  DU bist herzlich eingeladen.\nhttps://christengemeinden.it/eve
 nts/cgs-gottesdienst-montal-pustertal/
URL:https://christengemeinden.it/events/cgs-gottesdienst-montal-pustertal/
END:VEVENT
END:VCALENDAR