BEGIN:VCALENDAR
VERSION:2.0
PRODID:-//eventon.com NONSGML v1.0//EN
CALSCALE:GREGORIAN
METHOD:PUBLISH
BEGIN:VEVENT
UID:69e88be231f00
DTSTAMP:20260422T085042Z
DTSTART:20230805T120000Z
DTEND:20230805T150000Z
LOCATION:CGS-Zentrum Schlanders Doktor-Heinrich-Vögele-Straße\,  7\,  39028 Schlanders
SUMMARY:Kinderfest Meran
DESCRIPTION:Gemeinsam mit der Bibelschule &#8220;Master&#8217;s Commission&
 #8221; aus Biel (CH) feiern wir ein Kinderfest beim &#8220;Zuegg-Spielplatz
 &#8221; in Meran für alle Kinder\,  die Freude an Spiel\,  Spaß und Baste
 ln haben! Ort: Marlingerweg 59\,  39012 Meran\,  Südtirol\,  Italien\nhtt
 ps://christengemeinden.it/events/kinderfest-meran/
URL:https://christengemeinden.it/events/kinderfest-meran/
END:VEVENT
END:VCALENDAR